Workbook
Name feb: #REF!
Name feb: #REF!
Name feb: #REF!
Name feb: #REF!

Sheet ManPower ( Day)
E1: IZHAR CONSTRUCTION (PVT) LTD
E2: MAF CARREFOUR, FORTRESS
E3: Daily Manpower & Equipment Report
L5: Date: | M5: 39787
A6: (A) Manpower | K6: B) Equipment | O6: No.
A7: Position | E7: No. | F7: Position | J7: No.
A8: Project Manager | E8: =Backup!E6 -> 1 | F8: G Forman | J8: =Backup!O21 -> 1 | K8: Batching Plant | O8: 1
A9: Construction Manager | E9: =Backup!E7 -> 2 | F9: Carpenter Forman | J9: =Backup!O22 -> 3 | K9: Transit Mixer | O9: 4
A10: Planning Engineer | E10: =Backup!E8 -> 1 | F10: Carpenter | J10: =Backup!O23 -> 13 | K10: Excavator | O10: 1
A11: Asst. Planning Engineer | E11: =Backup!E9 -> 1 | F11: Carpenter Helper | J11: =Backup!O24 -> 14 | K11: Loader | O11: 2
A12: Site Engineers | E12: =Backup!E10 -> 7 | F12: Khalasi Foreman | J12: =Backup!O25 -> 3 | K12: Dewatering Pumps | O12: 6
A13: Safety Inspector | E13: =Backup!E11 -> 1 | F13: Khalasi | J13: =Backup!O26 -> 35 | K13: Tractor Trolley | O13: 1
A14: Safety Assistant | E14: =Backup!E12 -> 4 | F14: Khalasi Helper | J14: =Backup!O27 -> 12 | K14: Crane (20 T Capacity) | O14: 1
A15: Supervisor (Civil) | E15: =Backup!E13 -> 20 | F15: Mason | J15: =Backup!O28 -> 22 | K15: Roller | O15: 1
A16: Surveyors | E16: =Backup!E14 -> 3 | F16: Mason Helper | J16: =Backup!O29 -> 4 | K16: Floor Cutter | O16: 3
A17: Asst. Surveyors | E17: =Backup!E15 -> 5 | F17: Labor Mate | J17: =Backup!O30 -> 10 | K17: Drill Machine | O17: 4
A18: Lab Incharge | E18: =Backup!E16 -> 1 | F18: Labor | J18: =Backup!O31 -> 133 | K18: Generator Set | O18: 5
A19: Depty Lab Incharge | E19: =Backup!E17 -> 3 | F19: Welder | J19: =Backup!O32 -> 9 | K19: Water pump with Motors | O19: 5
A20: Accounts Officer | E20: =Backup!E18 -> 1 | F20: Surveyor Helper | J20: =Backup!O34 -> 4 | K20: Theodolite (Complete set) | O20: 1
A21: Asst. Accounts | E21: =Backup!E19 -> 2 | F21: G.Forman Brick & Plaster | J21: =Backup!O35 -> 1 | K21: Level Machine (Complete set) | O21: 3
A22: Admin Assistant | E22: =Backup!E20 -> 1 | F22: Electrician | J22: =Backup!O6 -> 4 | K22: Total Station (Complete set) | O22: 1
A23: Store Keeper | E23: =Backup!E21 -> 1 | F23: Electrician Helper | J23: =Backup!O7 -> 2 | K23: Plate compactor | O23: 4
A24: Assistant Store Keeper | E24: =Backup!E22 -> 6 | F24: Plumber | J24: =Backup!O8 -> 1 | K24: Jumper compactor | O24: 3
A25: Time Keeper | E25: =Backup!E23 -> 3 | F25: Plumber Helper | J25: =Backup!O9 -> 1 | K25: Electrical Grinder | O25: 3
A26: Camp. Boss | E26: =Backup!E24 -> 1 | F26: Generator Operator | J26: =Backup!O15 -> 16 | K26: Dumpers | O26: -
A27: Security Guard | E27: =Backup!K6 -> 24 | F27: Fabricator | J27: =Backup!O10 -> 4 | K27: Hilty | O27: 1
A28: Cook | E28: =Backup!K7 -> 3 | F28: Loader Operator + Helper | J28: =Backup!K13+Backup!K14 -> 2 | K28: Screw gun | O28: 2
A29: Cook Helper | E29: =Backup!K8 -> 0 | F29: T.M Operator + Helper | J29: =Backup!K15+Backup!K16 -> 8 | K29: Steel Bending Machine | O29: 1
A30: Mechanics | E30: =Backup!K9 -> 1 | F30: Plant Operator + Helper | J30: =Backup!K17+Backup!K18 -> 2 | K30: Traller | O30: -
A31: Drivers | E31: =Backup!K10 -> 3 | F31: Excavator Operator + Helper | J31: =Backup!K19+Backup!K20 -> 2 | K31: Welding Plants | O31: 6
A32: Steel fixer | E32: =Backup!O16 -> 17 | F32: Pump Operator + Helper | J32: =Backup!K21+Backup!K22 -> 0 | K32: Steel Cutting Machine | O32: 1
A33: Office Boy | E33: =Backup!O14 -> 7 | F33: Roller Operator + Helper | J33: 0 | K33: Compressor Machine | O33: 2
A34: Work shop helper | E34: =Backup!O13 -> 2 | F34: Tractor Driver + Helper | J34: =Backup!K25+Backup!K26 -> 1 | K34: Mixer Machine (1 load) | O34: 4
A35: Quantity Surveyor | E35: =Backup!E25 -> 3 | F35: Crane operator + Helper | J35: =Backup!K27+Backup!K28 -> 1 | K35: Donkey pump | O35: 7
A36: Mechanical Forman | E36: =Backup!K29 -> 1 | F36: Forman | J36: =Backup!G60 -> 15 | K36: Rollar Compactor | O36: 1
A37: Trainee Supervisor | E37: 3 | F37: Labor / Helper | J37: =Backup!H60 -> 191 | K37: Lift Machine | O37: 3
A38: Purchaser | E38: 1 | F38: Steel Fixer | J38: =Backup!O16 -> 17 | K38: Mobile Concrete pump | O38: 2
A39: IT Administrator | E39: =Backup!E28 -> 1 | F39: Khalasi + Khalasi Helpers | J39: =Backup!O26+Backup!O27 -> 47 | K39: Vibrator | O39: 10
F40: Carpenter + Carpenter Helpers | J40: =Backup!O23+Backup!O24 -> 27 | K40: 20 HP Turbine | O40: 1
F41: Mason | J41: =Backup!N60 -> 36
F42: Electrical Sub Contractor | J42: =Backup!O53 -> 36
F43: HVAC Sub Contractor | J43: =Backup!O54 -> 35
F44: Plumbing Sub Contractor | J44: 13
F45: Izhar Steel | J45: =Backup!O52 -> 16
F46: Fire Fighting | J46: 11
F47: Curing Labor | J47: 8
F51: Total Labor | J51: 747 | O51: Rain
K52: Weather Condition
A53: IZHAR CONSTRUCTION (PVT) LTD | K53: CONSULTANT
A54: Signature : | F54: Signature : | K54: Signature :
A56: Date: | B56: =M5 -> 39787 | F56: Date: | G56: =M5 -> 39787 | K56: Date:
A58: Name: | B58: Mr.Sohail Afzal | F58: Name: | G58: Mr.Muhammad Akram | K58: Name: | M58: Mr. Farooq Haider
A60: Designation: | B60: Project Manager | F60: Designation: | G60: Construction Manager | K60: Designation: | M60: Resident Engineer

Sheet Manpower Report
A1: LOGO | C1: DAILY PROGRESS REPORT | I1: LOGO
A3: Document No. | C3: DD-RRR-DPR-002-R00 | H3: Date | I3: =TODAY() -> 45894
A5: MANPOWER STATUS
A6: Office Staff | F6: Site Staff
A7: Sr.No | B7: Designation | E7: Nos. | F7: Sr. No | G7: Designation | J7: Nos.
A8: 1 | B8: MEP Department | E8: 4 | F8: 1 | G8: Site Engineer (Civil) & Supervisor | J8: 2
F9: =F8+1 -> 2 | G9: Surveyor, Asst. Surveyor & Helper | J9: 1
F10: 3 | G10: Lift Operator | J10: 1
A14: Total A | E14: =SUM(E8:E13) -> 4 | F14: Total B | J14: =SUM(J8:J13) -> 4
A15: Admin Staff / Store / Accounts | F15: Skilled/Unskilled Manpower
A16: Sr.No | B16: Designation | E16: Nos. | F16: Sr. No | G16: Designation | J16: Nos.
F17: 1 | G17: Sub Contractor | J17: 2
F18: =F17+1 -> 2 | G18: Masson | J18: 2
F19: =F18+1 -> 3 | G19: Labor | J19: 1
F20: =F19+1 -> 4 | G20: Helper | J20: 0
F21: 5 | G21: Carpentar | J21: 2
F22: 6 | G22: Carpentar Helper | J22: 1
A39: Total Admin Staff | E39: =SUM(E17:E35) -> 0 | F39: Total C | J39: =SUM(J17:J38) -> 8
A40: Grand Total (Daily Man Power)
A41: Salaried Staff | C41: =E39+E14+J14 -> 8 | D41: Daily Wages | F41: 0 | H41: Sub-Contractor | I41: =+J39 -> 8
A42: Grand Total Daily Manpower | F42: =E14+J14+E39+J39 -> 16 | G42: Weather
A43: Signature | F43: Signature
A45: Name: | F45: Name:
A46: Designation: Planning Engineer | F46: Designation: Project Manager
A47: Date: | B47: =+I3 -> 45894 | F47: Date: | G47: =B47 -> 45894

Sheet Tools & Equipment
A1: LOGO | C1: =+'Manpower Report'!C1:H1 -> DAILY PROGRESS REPORT | J1: LOGO
J2: ='Manpower Report'!I3 -> 45894
A3: TOOLS & EQUIPMENT STATUS
A4: Tools & Equipment | F4: Equipment Owned By | H4: Status
A5: Sr. No. | B5: Description | D5: Unit | E5: Qty. | F5: Company | G5: Rental / Vendor | H5: Store | I5: Repair & Maintenance | J5: Site Working
A6: 1 | B6: Total Station Machine | D6: No's | E6: 0 | F6: - | G6: - | N6: ü
A7: 2 | B7: Auto-level | D7: No's | E7: 0 | F7: - | G7: -
A8: 3 | B8: Wheel Barrow | D8: No's | E8: 0 | F8: 2 | G8: - | J8: 2
A9: 4 | B9: Dumper | D9: No's | E9: 0 | G9: - | J9: 0
A10: 5 | B10: Road Roler Viberator | D10: No's | E10: 0 | G10: - | J10: 0
A11: 6 | B11: Tractor | D11: No's | E11: 0 | G11: - | J11: 0
D35: At Store | F35: Repair & Maintenance | H35: Site Working
B51: 45164 | G51: =B51 -> 45164

Sheet Backup
D1: IZHAR CONSTRUCTION (PVT) LTD
D2: CARREFOUR HYPERCENTER, FORTRESS, LAHORE
D3: Daily Manpower Strength | M3: Date: 5 Dec 08
A4: A | B4: Staff | F4: B | G4: Regular Workers | L4: C | M4: Daily Wages (Indirect Labor)
A5: Sr.No | B5: Title | E5: Nos. | F5: Sr.No | G5: Title | K5: Nos | L5: Sr.No | M5: Title | O5: No.
A6: 1 | B6: Project Manager | E6: 1 | F6: 1 | G6: Security Guard | K6: 24 | L6: 1 | M6: Electrician | O6: 4
A7: 2 | B7: Construction Manager | E7: 2 | F7: 2 | G7: Cook | K7: 3 | L7: 2 | M7: Electrician Helper | O7: 2
A8: 3 | B8: Planning Engineer | E8: 1 | F8: 3 | G8: Cook Helper | K8: 0 | L8: 3 | M8: Plumber | O8: 1
A9: 4 | B9: Asst.Planning Engineer | E9: 1 | F9: 4 | G9: Mechanics | K9: 1 | L9: 4 | M9: Plumber Helper | O9: 1
A10: 5 | B10: Site Engineers | E10: 7 | F10: 5 | G10: Drivers | K10: 3 | L10: 5 | M10: Fabricator | O10: 4
A11: 6 | B11: Safety Inspector | E11: 1 | F11: 6 | G11: Sweeper | K11: 1 | L11: 6 | M11: Cook Helper | O11: 30
A12: 7 | B12: Safety Assistant | E12: 4 | F12: 7 | G12: Office Boy | K12: 1 | L12: 7 | M12: Lab Helper | O12: 1
A13: 8 | B13: Supervisor (Civil) | E13: 20 | F13: 8 | G13: LoaderOperator | K13: 1 | L13: 8 | M13: Workshop helper | O13: 2
A14: 9 | B14: Surveyors | E14: 3 | F14: 9 | G14: Loader Operator Helper | K14: 1 | L14: 9 | M14: Office boy | O14: 7
A15: 10 | B15: Asst. Surveyors | E15: 5 | F15: 10 | G15: T.M Operator | K15: 5 | L15: 10 | M15: Generator operator | O15: 16
A16: 11 | B16: Lab Incharge | E16: 1 | F16: 11 | G16: T.M Operator Helper | K16: 3 | L16: 11 | M16: Steel fixer | O16: 17
A17: 12 | B17: Lab Technician | E17: 3 | F17: 12 | G17: Plant Operator | K17: 1 | L17: 12 | M17: Plant Helper | O17: 4
A18: 13 | B18: Accounts Officer | E18: 1 | F18: 13 | G18: Plant Operator Helper | K18: 1 | L18: Sub total C | O18: =SUM(O6:O17) -> 89
A19: 14 | B19: Asst. Accounts | E19: 2 | F19: 14 | G19: Excavator Operator | K19: 1
A20: 15 | B20: Admin Assistant | E20: 1 | F20: 15 | G20: Excavator Operator Helper | K20: 1 | L20: D | M20: Daily Wages (Direct Labor)
A21: 16 | B21: Store Keeper | E21: 1 | F21: 16 | G21: Pump Operator | K21: 0 | L21: 1 | M21: G Forman | O21: 1
A22: 17 | B22: Assistant Store Keeper | E22: 6 | F22: 17 | G22: Pump Operator Helper | K22: 0 | L22: 2 | M22: Carpenter Forman | O22: 3
A23: 18 | B23: Time Keeper | E23: 3 | F23: 18 | G23: Civil Foreman | K23: 0 | L23: 3 | M23: Carpenter | O23: 13
A24: 19 | B24: Camp. Boss | E24: 1 | F24: 19 | G24: Electrician | K24: 1 | L24: 4 | M24: Carpenter Helper | O24: 14
A25: 20 | B25: Quantity Surveyor | E25: 3 | F25: 20 | G25: Tractor Driver | K25: 1 | L25: 5 | M25: Khalasi Foreman | O25: 3
A26: 21 | B26: Asst.Project Coordinator | E26: 0 | F26: 21 | G26: Tractor Driver Helper | K26: 0 | L26: 6 | M26: Khalasi | O26: 35
A27: 22 | B27: Tranee supervisor | E27: 2 | F27: 22 | G27: Crane operator | K27: 1 | L27: 7 | M27: Khalasi Helper | O27: 12
A28: 23 | B28: Purchaser | E28: 1 | F28: 23 | G28: Crane operator helper | K28: 0 | L28: 8 | M28: Mason | O28: 22
A29: 24 | B29: Tranee Surveyor | E29: 1 | F29: 24 | G29: Mechanical Forman | K29: 1 | L29: 9 | M29: Mason Helper | O29: 4
A30: 25 | B30: IT Administrator | E30: 1 | F30: 25 | G30: Electrical Supervisor | K30: 3 | L30: 10 | M30: Labor Mate | O30: 10
A31: Sub Total A | E31: =SUM(E6:E30) -> 72 | F31: Sub Total B | K31: =SUM(K6:K30) -> 54 | L31: 11 | M31: Labor | O31: 133
L32: 12 | M32: Welder | O32: 9
L33: 13 | M33: Welder helper | O33: 4
A34: Total (A+B+C+D) = | D34: =E31+K31+O18+O38 -> 486 | L34: 14 | M34: Surveyor Helper | O34: 4
L35: 15 | M35: G.Forman Brick & Plaster | O35: 1
L36: 16 | M36: Plant Helper | O36: 1
L37: 17 | M37: Sweeper | O37: 2
L38: Sub Total D | O38: =SUM(O21:O37) -> 271
A39: Sr.No | B39: Subcontractor Name | D39: Job | G39: Forman | H39: Labor | I39: Steel Fixer | K39: Khalasi | M39: Carpenter | N39: Mason | O39: Total
A40: 1 | B40: Haji Riaz | D40: Shuttering | G40: 1 | H40: 0 | I40: 0 | K40: 6 | M40: 3 | N40: 0 | O40: =SUM(G40:N40) -> 10
A41: 2 | B41: Mehmood Masih | D41: Massonary | G41: 1 | H41: 15 | I41: 0 | K41: 0 | M41: 0 | N41: 10 | O41: =SUM(I41:N41) -> 10
A42: 3 | B42: Abdul Majeed | D42: Massonary | G42: 1 | H42: 6 | I42: 0 | K42: 0 | M42: 0 | N42: 6 | O42: =SUM(O40:O41) -> 20
A43: 4 | B43: Muhammad Rafiq | D43: Steel fixer | G43: 1 | H43: 4 | I43: 10 | K43: 0 | M43: 0 | N43: 0 | O43: =SUM(G43:N43) -> 15
A44: 5 | B44: Muhammad Riaz | D44: Steel fixer | G44: 1 | H44: 6 | I44: 0 | K44: 0 | M44: 0 | N44: 10 | O44: =SUM(G44:N44) -> 17
A45: 6 | B45: Muhammad Akram | D45: Excavation | G45: 1 | H45: 7 | I45: 0 | K45: 0 | M45: 0 | N45: 0 | O45: =SUM(G45:N45) -> 8
A46: 7 | B46: Fareed Khan | D46: Excavation | G46: 1 | H46: 19 | I46: 0 | K46: 0 | M46: 0 | N46: 0 | O46: =SUM(G46:N46) -> 20
A47: 8 | B47: Nazir Ahmad | D47: Excavation | G47: 1 | H47: 15 | I47: 0 | K47: 0 | M47: 0 | N47: 0 | O47: =SUM(G47:N47) -> 16
A48: 9 | B48: Aslam Shah | D48: Concrete | G48: 1 | H48: 14 | I48: 0 | K48: 0 | M48: 0 | N48: 5 | O48: =SUM(G48:N48) -> 20
A49: 10 | B49: Ijaz Butt | D49: Road work | G49: 1 | H49: 5 | I49: 0 | K49: 0 | M49: 0 | N49: 0 | O49: =SUM(G49:N49) -> 6
A50: 11 | B50: Muzzamal Mushtaq | D50: Plumbing | G50: 1 | H50: 6 | I50: 0 | K50: 0 | M50: 0 | N50: 0 | O50: =SUM(G50:N50) -> 7
A51: 12 | B51: Muhammad Ishaq | D51: Dismantelling | G51: 1 | H51: 10 | I51: 0 | K51: 0 | M51: 0 | N51: 5 | O51: =SUM(I51:N51) -> 5
A52: 13 | B52: Izhar Steel | D52: Steel works | G52: 1 | H52: 15 | I52: 0 | K52: 0 | M52: 0 | N52: 0 | O52: =SUM(G52:N52) -> 16
A53: 14 | B53: Electrical | D53: Electrical | G53: 1 | H53: 35 | I53: 0 | K53: 0 | M53: 0 | N53: 0 | O53: =SUM(G53:N53) -> 36
A54: 15 | B54: HVAC | D54: HVAC works | G54: 1 | H54: 34 | I54: 0 | K54: 0 | M54: 0 | N54: 0 | O54: =SUM(G54:N54) -> 35
A55: 16 | B55: Ejaz | D55: Column
A56: 17 | B56: Fire Fighting | D56: Fire works | G56: 0 | H56: 0 | I56: 0 | K56: 0 | M56: 0 | N56: 0 | O56: =SUM(G56:N56) -> 0
A57: 18 | B57: Piping Team | D57: Piping Works | G57: 0 | H57: 0 | I57: 0 | K57: 0 | M57: 0 | N57: 0 | O57: =SUM(G57:N57) -> 0
A58: 19 | B58: Ducting Team | D58: Duct Works | G58: 0 | H58: 0 | I58: 0 | K58: 0 | M58: 0 | N58: 0 | O58: =SUM(G58:N58) -> 0
G59: 0 | H59: 0 | I59: 0 | K59: 0 | M59: 0 | N59: 0 | O59: =SUM(G59:N59) -> 0
A60: Total | G60: =SUM(G40:G59) -> 15 | H60: =SUM(H40:H59) -> 191 | I60: =SUM(I40:I59) -> 10 | K60: =SUM(K40:K59) -> 6 | M60: =SUM(M40:M59) -> 3 | N60: =SUM(N40:N59) -> 36 | O60: =SUM(G60:N60) -> 261
B61: Grand Total (A+B+C+D+E) = | F61: =D34+O60 -> 747
B63: Time Keeper | F63: Adim Assistant | J63: CM | N63: PM

Sheet Progress 
A1: LOGO | C1: =+'Tools & Equipment'!C1:I1 -> DAILY PROGRESS REPORT | H1: LOGO
A3: PROGRESS OVERVIEW
A4: Work Done for Previous Day | H4: ='Manpower Report'!I3-1 -> 45893
A5: Sr. No. | B5: Activity | D5: Location / Grid | E5: Unit | F5: Qty. | G5: Completed % | H5: Remarks
A6: 1 | B6: Plaster works | D6: Class Room 1 | G6: 1
A7: 2 | B7: Plaster works | D7: Class Room 2 | G7: 1
A8: =+A7+1 -> 3 | B8: Plaster works | D8: Class Room 3 | G8: 1
A9: =+A8+1 -> 4 | B9: Plaster works | D9: Class Room 4 | G9: 1
A10: =+A9+1 -> 5 | B10: Electrical Work (Jari Work) | D10: Class Rooms | G10: 1
A11: =+A10+1 -> 6 | B11: Electrical Work (Conduiting) | D11: Class Rooms | G11: 1
A12: =+A11+1 -> 7 | B12: Electrical Work (Cabling ) | D12: Class Rooms | G12: 0.3
H13: =H4+1 -> 45894
B14: Activity | D14: Location | E14: Unit | F14: Qty. | G14: Completed % | H14: Remarks
A15: 1 | B15: Electrical Work | D15: Class Rooms
A16: 2 | B16: Tile Work
A17: =A16+1 -> 3
A18: =A17+1 -> 4
A20: BOTTLE NECKS :
B53: 45164

Sheet Pictorial Progress
A1: LOGO | C1: =+'Progress '!C1:F1 -> DAILY PROGRESS REPORT | P1: LOG
A3: PICTORIAL PROGRESS REPORT | P3: ='Manpower Report'!I3 -> 45894
A24: Plastering of Flooring in Progress
A49: Curring of Plastering Work
A74: Preparation of Plaster Work after Mesh Fixing
A99: Checking the Floor Plaster Level
A124: Brickwork at Class Room -1
A149: Electrical Work (Wall Conduiting) in Progress
